BEGIN:VCALENDAR
VERSION:2.0
PRODID:-//Stephanie Hafferty - ECPv6.15.20//NONSGML v1.0//EN
CALSCALE:GREGORIAN
METHOD:PUBLISH
X-WR-CALNAME:Stephanie Hafferty
X-ORIGINAL-URL:https://nodighome.com
X-WR-CALDESC:Events for Stephanie Hafferty
REFRESH-INTERVAL;VALUE=DURATION:PT1H
X-Robots-Tag:noindex
X-PUBLISHED-TTL:PT1H
BEGIN:VTIMEZONE
TZID:Europe/London
BEGIN:DAYLIGHT
TZOFFSETFROM:+0000
TZOFFSETTO:+0100
TZNAME:BST
DTSTART:20220327T010000
END:DAYLIGHT
BEGIN:STANDARD
TZOFFSETFROM:+0100
TZOFFSETTO:+0000
TZNAME:GMT
DTSTART:20221030T010000
END:STANDARD
BEGIN:DAYLIGHT
TZOFFSETFROM:+0000
TZOFFSETTO:+0100
TZNAME:BST
DTSTART:20230326T010000
END:DAYLIGHT
BEGIN:STANDARD
TZOFFSETFROM:+0100
TZOFFSETTO:+0000
TZNAME:GMT
DTSTART:20231029T010000
END:STANDARD
BEGIN:DAYLIGHT
TZOFFSETFROM:+0000
TZOFFSETTO:+0100
TZNAME:BST
DTSTART:20240331T010000
END:DAYLIGHT
BEGIN:STANDARD
TZOFFSETFROM:+0100
TZOFFSETTO:+0000
TZNAME:GMT
DTSTART:20241027T010000
END:STANDARD
END:VTIMEZONE
BEGIN:VEVENT
DTSTART;TZID=Europe/London:20230507T000000
DTEND;TZID=Europe/London:20230507T235959
DTSTAMP:20260419T130618
CREATED:20230419T052017Z
LAST-MODIFIED:20230419T052912Z
UID:29341-1683417600-1683503999@nodighome.com
SUMMARY:Workshop for Landaff North Allotment Association
DESCRIPTION:Delighted to have been invited back to Landaff Allotments\, Cardiff for another gardening workshop. This event is for the allotmenteers there. \nContact me to book a workshop for your allotment association. \n  \nLandaff allotments
URL:https://nodighome.com/event/workshop-for-landaff-north-allotment-association/
CATEGORIES:No dig gardening courses,Talks and workshops
ATTACH;FMTTYPE=image/jpeg:https://nodighome.com/wp-content/uploads/2023/04/IMG_4388-rotated.jpg
END:VEVENT
BEGIN:VEVENT
DTSTART;TZID=Europe/London:20230511T000000
DTEND;TZID=Europe/London:20230511T235959
DTSTAMP:20260419T130618
CREATED:20230419T052928Z
LAST-MODIFIED:20230419T053407Z
UID:29348-1683763200-1683849599@nodighome.com
SUMMARY:Malvern Spring Festival
DESCRIPTION:I’ll be at Malvern Spring Festival on Press Day – Thursday 11th May\, along with other members of the Garden Media Guild. Looking forward to exploring the show gardens! Find out more about the Festival here. \nNot speaking here\, this is part of my work as a freelance garden writer.
URL:https://nodighome.com/event/malvern-spring-festival/
ATTACH;FMTTYPE=image/png:https://nodighome.com/wp-content/uploads/2023/04/Screenshot-2023-04-19-at-06.33.01.png
END:VEVENT
BEGIN:VEVENT
DTSTART;TZID=Europe/London:20230513T000000
DTEND;TZID=Europe/London:20230513T235959
DTSTAMP:20260419T130618
CREATED:20230423T081830Z
LAST-MODIFIED:20230423T082201Z
UID:29455-1683936000-1684022399@nodighome.com
SUMMARY:Healthy Soil workshop for "Cultivate"
DESCRIPTION:An interactive workshop for young adults\, located at The Sidney Nolan Trust in Presteigne. This is a private event. \n  \nTo discussing booking a workshop\, course or talk with Stephanie\, please contact us.
URL:https://nodighome.com/event/healthy-soil-workshop-for-cultivate/
END:VEVENT
BEGIN:VEVENT
DTSTART;TZID=Europe/London:20230514T110000
DTEND;TZID=Europe/London:20230514T160000
DTSTAMP:20260419T130618
CREATED:20230419T053710Z
LAST-MODIFIED:20230419T054816Z
UID:29354-1684062000-1684080000@nodighome.com
SUMMARY:Fair Blanhigion - Gardd Y Ddraig / Plant Fair - The Dragon's Garden
DESCRIPTION:Co-hosting gardening Q&A with Huw Richards at 1:30pm at this lovely event in Llansadwrn. \nThere’ll be plant and tree nurseries\, tool sharpening with Dinefwr Orchardeers (I definitely need this one!) buttonhole workshops\, gardening tools for sale and books. \nDelicious food and drink from Talley Wood Fired Pizzas and Marnies Cakes. \nMusic\, and lots more! \n11am – 4pm \nThe event is located at Llansadwrn Reading Room and Community Field\, SA19 8HH
URL:https://nodighome.com/event/fair-blanhigion-gardd-y-ddraig-plant-fair-the-dragons-garden/
LOCATION:Llansadwrn Reading Room\, SA19 8HH
ATTACH;FMTTYPE=image/png:https://nodighome.com/wp-content/uploads/2023/04/Screenshot-2023-04-19-at-06.35.32.png
END:VEVENT
BEGIN:VEVENT
DTSTART;TZID=Europe/London:20230522T000000
DTEND;TZID=Europe/London:20230522T235959
DTSTAMP:20260419T130618
CREATED:20230419T054856Z
LAST-MODIFIED:20230419T055625Z
UID:29363-1684713600-1684799999@nodighome.com
SUMMARY:Chelsea Flower Show
DESCRIPTION:In 2022 I hosted talks on the BBC Blue Peter Garden\, designed by Juliet Sergeant\,  at RHS Chelsea Flower Show. This year\, I’m back at Chelsea for Press Day\, Monday 22nd May\, with a writing commission for a national gardening magazine. \nFind out more about this year’s RHS Chelsea Flower Show here. \nWith Juliet Sargeant and Sheila Das on the Blue Peter Garden
URL:https://nodighome.com/event/chelsea-flower-show/
ATTACH;FMTTYPE=image/png:https://nodighome.com/wp-content/uploads/2023/04/Screenshot-2023-04-19-at-06.48.50.png
END:VEVENT
END:VCALENDAR