BEGIN:VCALENDAR
VERSION:2.0
PRODID:-//Stephanie Hafferty - ECPv6.15.20//NONSGML v1.0//EN
CALSCALE:GREGORIAN
METHOD:PUBLISH
X-ORIGINAL-URL:https://nodighome.com
X-WR-CALDESC:Events for Stephanie Hafferty
REFRESH-INTERVAL;VALUE=DURATION:PT1H
X-Robots-Tag:noindex
X-PUBLISHED-TTL:PT1H
BEGIN:VTIMEZONE
TZID:Europe/London
BEGIN:DAYLIGHT
TZOFFSETFROM:+0000
TZOFFSETTO:+0100
TZNAME:BST
DTSTART:20250330T010000
END:DAYLIGHT
BEGIN:STANDARD
TZOFFSETFROM:+0100
TZOFFSETTO:+0000
TZNAME:GMT
DTSTART:20251026T010000
END:STANDARD
BEGIN:DAYLIGHT
TZOFFSETFROM:+0000
TZOFFSETTO:+0100
TZNAME:BST
DTSTART:20260329T010000
END:DAYLIGHT
BEGIN:STANDARD
TZOFFSETFROM:+0100
TZOFFSETTO:+0000
TZNAME:GMT
DTSTART:20261025T010000
END:STANDARD
BEGIN:DAYLIGHT
TZOFFSETFROM:+0000
TZOFFSETTO:+0100
TZNAME:BST
DTSTART:20270328T010000
END:DAYLIGHT
BEGIN:STANDARD
TZOFFSETFROM:+0100
TZOFFSETTO:+0000
TZNAME:GMT
DTSTART:20271031T010000
END:STANDARD
END:VTIMEZONE
BEGIN:VEVENT
DTSTART;TZID=Europe/London:20260518T060000
DTEND;TZID=Europe/London:20260518T160000
DTSTAMP:20260425T153438
CREATED:20260201T135905Z
LAST-MODIFIED:20260201T135905Z
UID:33824-1779084000-1779120000@nodighome.com
SUMMARY:RHS Chelsea Flower Show
DESCRIPTION:I’m looking forward to attending the RHS Chelsea Flower Show on Press Day\, 18th May 2026. This annual event\, the day before the show opens to the public\, is a wonderful opportunity to see all of the show gardens and take plenty of photographs for articles. \nThere’s also a lot of celebrity spotting at this dazzling\, star-studded event! \nI’ll be sharing posts from the day on my social media during Chelsea week\, and you’ll be able to read the article about it in Kitchen Garden Magazine\, June issue. \nPhoto shows Monty Don’s Show Garden at Chelsea Flower Show in 2025
URL:https://nodighome.com/event/rhs-chelsea-flower-show-2/
CATEGORIES:Garden Festivals,Garden Shows
ATTACH;FMTTYPE=image/jpeg:https://nodighome.com/wp-content/uploads/2026/02/IMG_2224.jpeg
END:VEVENT
END:VCALENDAR