BEGIN:VCALENDAR
VERSION:2.0
PRODID:-//Stephanie Hafferty - ECPv6.15.20//NONSGML v1.0//EN
CALSCALE:GREGORIAN
METHOD:PUBLISH
X-ORIGINAL-URL:https://nodighome.com
X-WR-CALDESC:Events for Stephanie Hafferty
REFRESH-INTERVAL;VALUE=DURATION:PT1H
X-Robots-Tag:noindex
X-PUBLISHED-TTL:PT1H
BEGIN:VTIMEZONE
TZID:Europe/London
BEGIN:DAYLIGHT
TZOFFSETFROM:+0000
TZOFFSETTO:+0100
TZNAME:BST
DTSTART:20220327T010000
END:DAYLIGHT
BEGIN:STANDARD
TZOFFSETFROM:+0100
TZOFFSETTO:+0000
TZNAME:GMT
DTSTART:20221030T010000
END:STANDARD
BEGIN:DAYLIGHT
TZOFFSETFROM:+0000
TZOFFSETTO:+0100
TZNAME:BST
DTSTART:20230326T010000
END:DAYLIGHT
BEGIN:STANDARD
TZOFFSETFROM:+0100
TZOFFSETTO:+0000
TZNAME:GMT
DTSTART:20231029T010000
END:STANDARD
BEGIN:DAYLIGHT
TZOFFSETFROM:+0000
TZOFFSETTO:+0100
TZNAME:BST
DTSTART:20240331T010000
END:DAYLIGHT
BEGIN:STANDARD
TZOFFSETFROM:+0100
TZOFFSETTO:+0000
TZNAME:GMT
DTSTART:20241027T010000
END:STANDARD
END:VTIMEZONE
BEGIN:VEVENT
DTSTART;TZID=Europe/London:20230615T000000
DTEND;TZID=Europe/London:20230616T235959
DTSTAMP:20260423T201726
CREATED:20230419T061712Z
LAST-MODIFIED:20230612T113409Z
UID:29377-1686787200-1686959999@nodighome.com
SUMMARY:No Dig talks at BBC Gardeners' World Live
DESCRIPTION:I am delighted to be talking  about no dig gardening and growing your own food on the We Grow Stage on Lucy Hutchings show garden The Secret Homestead\, at BBC Gardeners World Live in Birmingham. I am speaking there on Thursday 15th and Friday 16th June 2023\, along with some fabulous speakers including Jason Williams aka The Cloud Gardener and Chris Collins from Garden Organic. \nThis slideshow requires JavaScript. \nI’ve been hosting gardening talks at BBC Gardeners’ World Live for some years now\, and always really enjoy the event. There’s so much to do and see there. This year I am especially looking forward to seeing Lucy’s show garden\, which promises to be remarkable. \nIf you are attending the show on Saturday\, don’t miss soil ecologist Becky Searle\, who is speaking on the garden at 1pm. \nI am also there for Press Day on Wednesday 14th June with my “Garden and Food Writer” hat on\, but the event isn’t open to the public then. \n \n 
URL:https://nodighome.com/event/no-dig-talks-at-bbc-gardeners-world-live-2/
LOCATION:Birmingham NEC
CATEGORIES:No dig gardening courses,No dig talk,Talks and workshops
ATTACH;FMTTYPE=image/png:https://nodighome.com/wp-content/uploads/2023/04/Screenshot-2023-04-19-at-07.39.43.png
END:VEVENT
END:VCALENDAR