BEGIN:VCALENDAR
VERSION:2.0
PRODID:-//Stephanie Hafferty - ECPv6.15.20//NONSGML v1.0//EN
CALSCALE:GREGORIAN
METHOD:PUBLISH
X-ORIGINAL-URL:https://nodighome.com
X-WR-CALDESC:Events for Stephanie Hafferty
REFRESH-INTERVAL;VALUE=DURATION:PT1H
X-Robots-Tag:noindex
X-PUBLISHED-TTL:PT1H
BEGIN:VTIMEZONE
TZID:Europe/London
BEGIN:DAYLIGHT
TZOFFSETFROM:+0000
TZOFFSETTO:+0100
TZNAME:BST
DTSTART:20220327T010000
END:DAYLIGHT
BEGIN:STANDARD
TZOFFSETFROM:+0100
TZOFFSETTO:+0000
TZNAME:GMT
DTSTART:20221030T010000
END:STANDARD
BEGIN:DAYLIGHT
TZOFFSETFROM:+0000
TZOFFSETTO:+0100
TZNAME:BST
DTSTART:20230326T010000
END:DAYLIGHT
BEGIN:STANDARD
TZOFFSETFROM:+0100
TZOFFSETTO:+0000
TZNAME:GMT
DTSTART:20231029T010000
END:STANDARD
BEGIN:DAYLIGHT
TZOFFSETFROM:+0000
TZOFFSETTO:+0100
TZNAME:BST
DTSTART:20240331T010000
END:DAYLIGHT
BEGIN:STANDARD
TZOFFSETFROM:+0100
TZOFFSETTO:+0000
TZNAME:GMT
DTSTART:20241027T010000
END:STANDARD
END:VTIMEZONE
BEGIN:VEVENT
DTSTART;TZID=Europe/London:20230511T000000
DTEND;TZID=Europe/London:20230511T235959
DTSTAMP:20260421T092721
CREATED:20230419T052928Z
LAST-MODIFIED:20230419T053407Z
UID:29348-1683763200-1683849599@nodighome.com
SUMMARY:Malvern Spring Festival
DESCRIPTION:I’ll be at Malvern Spring Festival on Press Day – Thursday 11th May\, along with other members of the Garden Media Guild. Looking forward to exploring the show gardens! Find out more about the Festival here. \nNot speaking here\, this is part of my work as a freelance garden writer.
URL:https://nodighome.com/event/malvern-spring-festival/
ATTACH;FMTTYPE=image/png:https://nodighome.com/wp-content/uploads/2023/04/Screenshot-2023-04-19-at-06.33.01.png
END:VEVENT
END:VCALENDAR