BEGIN:VCALENDAR
VERSION:2.0
PRODID:-//Stephanie Hafferty - ECPv6.15.20//NONSGML v1.0//EN
CALSCALE:GREGORIAN
METHOD:PUBLISH
X-WR-CALNAME:Stephanie Hafferty
X-ORIGINAL-URL:https://nodighome.com
X-WR-CALDESC:Events for Stephanie Hafferty
REFRESH-INTERVAL;VALUE=DURATION:PT1H
X-Robots-Tag:noindex
X-PUBLISHED-TTL:PT1H
BEGIN:VTIMEZONE
TZID:Europe/London
BEGIN:DAYLIGHT
TZOFFSETFROM:+0000
TZOFFSETTO:+0100
TZNAME:BST
DTSTART:20210328T010000
END:DAYLIGHT
BEGIN:STANDARD
TZOFFSETFROM:+0100
TZOFFSETTO:+0000
TZNAME:GMT
DTSTART:20211031T010000
END:STANDARD
BEGIN:DAYLIGHT
TZOFFSETFROM:+0000
TZOFFSETTO:+0100
TZNAME:BST
DTSTART:20220327T010000
END:DAYLIGHT
BEGIN:STANDARD
TZOFFSETFROM:+0100
TZOFFSETTO:+0000
TZNAME:GMT
DTSTART:20221030T010000
END:STANDARD
BEGIN:DAYLIGHT
TZOFFSETFROM:+0000
TZOFFSETTO:+0100
TZNAME:BST
DTSTART:20230326T010000
END:DAYLIGHT
BEGIN:STANDARD
TZOFFSETFROM:+0100
TZOFFSETTO:+0000
TZNAME:GMT
DTSTART:20231029T010000
END:STANDARD
END:VTIMEZONE
BEGIN:VEVENT
DTSTART;TZID=Europe/London:20221029T100000
DTEND;TZID=Europe/London:20221029T150000
DTSTAMP:20260419T144616
CREATED:20221016T111258Z
LAST-MODIFIED:20221016T111258Z
UID:27112-1667037600-1667055600@nodighome.com
SUMMARY:Apple Day Festival - at Watson & Pratt's\, Lampeter
DESCRIPTION:My last event of a very busy and enjoyable year\, hosting talks nationally and internationally\, is in my local town of Lampeter. I’ll then be taking a break from travelling about giving talks and workshops until next spring\, working on my next book. \nThe Apple Day Festival\, hosted by Watson & Pratt’s\, features a host of activities\, local food producers\, and delicious local food to eat.\nI’ll be there all day from 10 – 3pm\, signing books\, chatting about growing (and sampling lots of food!) and at 12 noon will be giving a talk about growing your own. \nThe Apple Day Festival is free to attend.
URL:https://nodighome.com/event/apple-day-festival-at-watson-pratts-lampeter/
LOCATION:Watson and Pratt’s\, Lampeter Industrial Estate\, Tregaron Road\, Lampeter\, SA48 8LT\, United Kingdom
CATEGORIES:No dig talk,Talks and workshops
ATTACH;FMTTYPE=image/jpeg:https://nodighome.com/wp-content/uploads/2022/10/Apple_Day_Main_2409-1-e1665917533345.jpeg
END:VEVENT
END:VCALENDAR